Workbook

Sheet Plan
A1: Gantt chart
A2: Tasks in working days, one after another, skipping weekends and the holidays you list.
A3: Plan starts on | C3: 46118 | E3: Weekend | F3: Saturday and Sunday
A5: # | B5: Task | C5: Starts after (#) | D5: Gap (working days) | E5: Working days | F5: Start | G5: Finish | H5: =$C$3-WEEKDAY($C$3,3)+0 | I5: =$C$3-WEEKDAY($C$3,3)+7 | J5: =$C$3-WEEKDAY($C$3,3)+14 | K5: =$C$3-WEEKDAY($C$3,3)+21 | L5: =$C$3-WEEKDAY($C$3,3)+28 | M5: =$C$3-WEEKDAY($C$3,3)+35 | N5: =$C$3-WEEKDAY($C$3,3)+42 | O5: =$C$3-WEEKDAY($C$3,3)+49 | P5: =$C$3-WEEKDAY($C$3,3)+56 | Q5: =$C$3-WEEKDAY($C$3,3)+63 | R5: =$C$3-WEEKDAY($C$3,3)+70 | S5: =$C$3-WEEKDAY($C$3,3)+77 | T5: =$C$3-WEEKDAY($C$3,3)+84 | U5: =$C$3-WEEKDAY($C$3,3)+91 | V5: =$C$3-WEEKDAY($C$3,3)+98 | W5: =$C$3-WEEKDAY($C$3,3)+105 | X5: =$C$3-WEEKDAY($C$3,3)+112 | Y5: =$C$3-WEEKDAY($C$3,3)+119 | Z5: =$C$3-WEEKDAY($C$3,3)+126 | AA5: =$C$3-WEEKDAY($C$3,3)+133 | AB5: =$C$3-WEEKDAY($C$3,3)+140 | AC5: =$C$3-WEEKDAY($C$3,3)+147 | AD5: =$C$3-WEEKDAY($C$3,3)+154 | AE5: =$C$3-WEEKDAY($C$3,3)+161 | AF5: =$C$3-WEEKDAY($C$3,3)+168 | AG5: =$C$3-WEEKDAY($C$3,3)+175
A6: 1 | B6: Site survey (example) | E6: 5 | F6: =IF(B6="","",IF(C6="",WORKDAY.INTL($C$3-1,1,VLOOKUP($F$3,Settings!$A$2:$B$5,2,FALSE),Holidays!$A$2:$A$200),WORKDAY.INTL(INDEX($G$6:$G$45,C6),1+N(D6),VLOOKUP($F$3,Settings!$A$2:$B$5,2,FALSE),Holidays!$A$2:$A$200))) | G6: =IF(OR(B6="",E6=""),"",WORKDAY.INTL(F6,E6-1,VLOOKUP($F$3,Settings!$A$2:$B$5,2,FALSE),Holidays!$A$2:$A$200))
A7: 2 | B7: Hazard identification (example) | C7: 1 | E7: 10 | F7: =IF(B7="","",IF(C7="",WORKDAY.INTL($C$3-1,1,VLOOKUP($F$3,Settings!$A$2:$B$5,2,FALSE),Holidays!$A$2:$A$200),WORKDAY.INTL(INDEX($G$6:$G$45,C7),1+N(D7),VLOOKUP($F$3,Settings!$A$2:$B$5,2,FALSE),Holidays!$A$2:$A$200))) | G7: =IF(OR(B7="",E7=""),"",WORKDAY.INTL(F7,E7-1,VLOOKUP($F$3,Settings!$A$2:$B$5,2,FALSE),Holidays!$A$2:$A$200))
A8: 3 | B8: Safety case drafting (example) | C8: 2 | E8: 15 | F8: =IF(B8="","",IF(C8="",WORKDAY.INTL($C$3-1,1,VLOOKUP($F$3,Settings!$A$2:$B$5,2,FALSE),Holidays!$A$2:$A$200),WORKDAY.INTL(INDEX($G$6:$G$45,C8),1+N(D8),VLOOKUP($F$3,Settings!$A$2:$B$5,2,FALSE),Holidays!$A$2:$A$200))) | G8: =IF(OR(B8="",E8=""),"",WORKDAY.INTL(F8,E8-1,VLOOKUP($F$3,Settings!$A$2:$B$5,2,FALSE),Holidays!$A$2:$A$200))
A9: 4 | B9: Independent review (example) | C9: 3 | D9: 2 | E9: 5 | F9: =IF(B9="","",IF(C9="",WORKDAY.INTL($C$3-1,1,VLOOKUP($F$3,Settings!$A$2:$B$5,2,FALSE),Holidays!$A$2:$A$200),WORKDAY.INTL(INDEX($G$6:$G$45,C9),1+N(D9),VLOOKUP($F$3,Settings!$A$2:$B$5,2,FALSE),Holidays!$A$2:$A$200))) | G9: =IF(OR(B9="",E9=""),"",WORKDAY.INTL(F9,E9-1,VLOOKUP($F$3,Settings!$A$2:$B$5,2,FALSE),Holidays!$A$2:$A$200))
A10: 5 | B10: Submission (example) | C10: 4 | E10: 1 | F10: =IF(B10="","",IF(C10="",WORKDAY.INTL($C$3-1,1,VLOOKUP($F$3,Settings!$A$2:$B$5,2,FALSE),Holidays!$A$2:$A$200),WORKDAY.INTL(INDEX($G$6:$G$45,C10),1+N(D10),VLOOKUP($F$3,Settings!$A$2:$B$5,2,FALSE),Holidays!$A$2:$A$200))) | G10: =IF(OR(B10="",E10=""),"",WORKDAY.INTL(F10,E10-1,VLOOKUP($F$3,Settings!$A$2:$B$5,2,FALSE),Holidays!$A$2:$A$200))
A11: 6 | F11: =IF(B11="","",IF(C11="",WORKDAY.INTL($C$3-1,1,VLOOKUP($F$3,Settings!$A$2:$B$5,2,FALSE),Holidays!$A$2:$A$200),WORKDAY.INTL(INDEX($G$6:$G$45,C11),1+N(D11),VLOOKUP($F$3,Settings!$A$2:$B$5,2,FALSE),Holidays!$A$2:$A$200))) | G11: =IF(OR(B11="",E11=""),"",WORKDAY.INTL(F11,E11-1,VLOOKUP($F$3,Settings!$A$2:$B$5,2,FALSE),Holidays!$A$2:$A$200))
A12: 7 | F12: =IF(B12="","",IF(C12="",WORKDAY.INTL($C$3-1,1,VLOOKUP($F$3,Settings!$A$2:$B$5,2,FALSE),Holidays!$A$2:$A$200),WORKDAY.INTL(INDEX($G$6:$G$45,C12),1+N(D12),VLOOKUP($F$3,Settings!$A$2:$B$5,2,FALSE),Holidays!$A$2:$A$200))) | G12: =IF(OR(B12="",E12=""),"",WORKDAY.INTL(F12,E12-1,VLOOKUP($F$3,Settings!$A$2:$B$5,2,FALSE),Holidays!$A$2:$A$200))
A13: 8 | F13: =IF(B13="","",IF(C13="",WORKDAY.INTL($C$3-1,1,VLOOKUP($F$3,Settings!$A$2:$B$5,2,FALSE),Holidays!$A$2:$A$200),WORKDAY.INTL(INDEX($G$6:$G$45,C13),1+N(D13),VLOOKUP($F$3,Settings!$A$2:$B$5,2,FALSE),Holidays!$A$2:$A$200))) | G13: =IF(OR(B13="",E13=""),"",WORKDAY.INTL(F13,E13-1,VLOOKUP($F$3,Settings!$A$2:$B$5,2,FALSE),Holidays!$A$2:$A$200))
A14: 9 | F14: =IF(B14="","",IF(C14="",WORKDAY.INTL($C$3-1,1,VLOOKUP($F$3,Settings!$A$2:$B$5,2,FALSE),Holidays!$A$2:$A$200),WORKDAY.INTL(INDEX($G$6:$G$45,C14),1+N(D14),VLOOKUP($F$3,Settings!$A$2:$B$5,2,FALSE),Holidays!$A$2:$A$200))) | G14: =IF(OR(B14="",E14=""),"",WORKDAY.INTL(F14,E14-1,VLOOKUP($F$3,Settings!$A$2:$B$5,2,FALSE),Holidays!$A$2:$A$200))
A15: 10 | F15: =IF(B15="","",IF(C15="",WORKDAY.INTL($C$3-1,1,VLOOKUP($F$3,Settings!$A$2:$B$5,2,FALSE),Holidays!$A$2:$A$200),WORKDAY.INTL(INDEX($G$6:$G$45,C15),1+N(D15),VLOOKUP($F$3,Settings!$A$2:$B$5,2,FALSE),Holidays!$A$2:$A$200))) | G15: =IF(OR(B15="",E15=""),"",WORKDAY.INTL(F15,E15-1,VLOOKUP($F$3,Settings!$A$2:$B$5,2,FALSE),Holidays!$A$2:$A$200))
A16: 11 | F16: =IF(B16="","",IF(C16="",WORKDAY.INTL($C$3-1,1,VLOOKUP($F$3,Settings!$A$2:$B$5,2,FALSE),Holidays!$A$2:$A$200),WORKDAY.INTL(INDEX($G$6:$G$45,C16),1+N(D16),VLOOKUP($F$3,Settings!$A$2:$B$5,2,FALSE),Holidays!$A$2:$A$200))) | G16: =IF(OR(B16="",E16=""),"",WORKDAY.INTL(F16,E16-1,VLOOKUP($F$3,Settings!$A$2:$B$5,2,FALSE),Holidays!$A$2:$A$200))
A17: 12 | F17: =IF(B17="","",IF(C17="",WORKDAY.INTL($C$3-1,1,VLOOKUP($F$3,Settings!$A$2:$B$5,2,FALSE),Holidays!$A$2:$A$200),WORKDAY.INTL(INDEX($G$6:$G$45,C17),1+N(D17),VLOOKUP($F$3,Settings!$A$2:$B$5,2,FALSE),Holidays!$A$2:$A$200))) | G17: =IF(OR(B17="",E17=""),"",WORKDAY.INTL(F17,E17-1,VLOOKUP($F$3,Settings!$A$2:$B$5,2,FALSE),Holidays!$A$2:$A$200))
A18: 13 | F18: =IF(B18="","",IF(C18="",WORKDAY.INTL($C$3-1,1,VLOOKUP($F$3,Settings!$A$2:$B$5,2,FALSE),Holidays!$A$2:$A$200),WORKDAY.INTL(INDEX($G$6:$G$45,C18),1+N(D18),VLOOKUP($F$3,Settings!$A$2:$B$5,2,FALSE),Holidays!$A$2:$A$200))) | G18: =IF(OR(B18="",E18=""),"",WORKDAY.INTL(F18,E18-1,VLOOKUP($F$3,Settings!$A$2:$B$5,2,FALSE),Holidays!$A$2:$A$200))
A19: 14 | F19: =IF(B19="","",IF(C19="",WORKDAY.INTL($C$3-1,1,VLOOKUP($F$3,Settings!$A$2:$B$5,2,FALSE),Holidays!$A$2:$A$200),WORKDAY.INTL(INDEX($G$6:$G$45,C19),1+N(D19),VLOOKUP($F$3,Settings!$A$2:$B$5,2,FALSE),Holidays!$A$2:$A$200))) | G19: =IF(OR(B19="",E19=""),"",WORKDAY.INTL(F19,E19-1,VLOOKUP($F$3,Settings!$A$2:$B$5,2,FALSE),Holidays!$A$2:$A$200))
A20: 15 | F20: =IF(B20="","",IF(C20="",WORKDAY.INTL($C$3-1,1,VLOOKUP($F$3,Settings!$A$2:$B$5,2,FALSE),Holidays!$A$2:$A$200),WORKDAY.INTL(INDEX($G$6:$G$45,C20),1+N(D20),VLOOKUP($F$3,Settings!$A$2:$B$5,2,FALSE),Holidays!$A$2:$A$200))) | G20: =IF(OR(B20="",E20=""),"",WORKDAY.INTL(F20,E20-1,VLOOKUP($F$3,Settings!$A$2:$B$5,2,FALSE),Holidays!$A$2:$A$200))
A21: 16 | F21: =IF(B21="","",IF(C21="",WORKDAY.INTL($C$3-1,1,VLOOKUP($F$3,Settings!$A$2:$B$5,2,FALSE),Holidays!$A$2:$A$200),WORKDAY.INTL(INDEX($G$6:$G$45,C21),1+N(D21),VLOOKUP($F$3,Settings!$A$2:$B$5,2,FALSE),Holidays!$A$2:$A$200))) | G21: =IF(OR(B21="",E21=""),"",WORKDAY.INTL(F21,E21-1,VLOOKUP($F$3,Settings!$A$2:$B$5,2,FALSE),Holidays!$A$2:$A$200))
A22: 17 | F22: =IF(B22="","",IF(C22="",WORKDAY.INTL($C$3-1,1,VLOOKUP($F$3,Settings!$A$2:$B$5,2,FALSE),Holidays!$A$2:$A$200),WORKDAY.INTL(INDEX($G$6:$G$45,C22),1+N(D22),VLOOKUP($F$3,Settings!$A$2:$B$5,2,FALSE),Holidays!$A$2:$A$200))) | G22: =IF(OR(B22="",E22=""),"",WORKDAY.INTL(F22,E22-1,VLOOKUP($F$3,Settings!$A$2:$B$5,2,FALSE),Holidays!$A$2:$A$200))
... A45: 40 | F45: =IF(B45="","",IF(C45="",WORKDAY.INTL($C$3-1,1,VLOOKUP($F$3,Settings!$A$2:$B$5,2,FALSE),Holidays!$A$2:$A$200),WORKDAY.INTL(INDEX($G$6:$G$45,C45),1+N(D45),VLOOKUP($F$3,Settings!$A$2:$B$5,2,FALSE),Holidays!$A$2:$A$200))) | G45: =IF(OR(B45="",E45=""),"",WORKDAY.INTL(F45,E45-1,VLOOKUP($F$3,Settings!$A$2:$B$5,2,FALSE),Holidays!$A$2:$A$200))
A47: Made by ReliTime - timesheets, approvals, job costing and GST invoicing for consultancies: https://relitime.com

Sheet Holidays
A1: Date | B1: Holiday | C1: Region
A2: 46036 | B2: Makar Sankranti | C2: Karnataka, India (example)
A3: 46048 | B3: Republic Day | C3: Karnataka, India (example)
A4: 46085 | B4: Holi | C4: Karnataka, India (example)
A5: 46100 | B5: Ugadi | C5: Karnataka, India (example)
A6: 46102 | B6: Eid al-Fitr | C6: Karnataka, India (example)
A7: 46107 | B7: Ram Navami | C7: Karnataka, India (example)
A8: 46112 | B8: Mahavira's Birthday | C8: Karnataka, India (example)
A9: 46115 | B9: Good Friday | C9: Karnataka, India (example)
A10: 46126 | B10: Dr. B. R. Ambedkar's Birthday | C10: Karnataka, India (example)
A11: 46143 | B11: Buddha Purnima; May Day | C11: Karnataka, India (example)
A12: 46169 | B12: Eid al-Adha | C12: Karnataka, India (example)
A13: 46199 | B13: Ashura | C13: Karnataka, India (example)
... A44: 46746 | B44: Christmas | C44: Karnataka, India (example)

Sheet Settings
A1: Weekend | B1: Days off (Monday first, 1 = off)
A2: Saturday and Sunday | B2: 0000011
A3: Friday and Saturday | B3: 0000110
A4: Sunday only | B4: 0000001
A5: Saturday only | B5: 0000010

Sheet How to use
A1: How to use the Gantt chart
A3: 1. Set the date the plan starts on, and the weekend.
A4: 2. One row per task: its name and how many WORKING days it takes.
A5: 3. To start a task after another, put the other task's number in 'Starts after (#)'.
A6: 'Gap (working days)' waits that many working days more, for a review or a client's reply.
A7: A task with no 'Starts after' begins on the plan's start date.
A8: 4. Start and finish are worked out with WORKDAY.INTL, skipping the weekend and the Holidays sheet,
A9: which starts with Karnataka's public holidays as an example: replace them with your own.
A10: Public holidays for many regions, with a CSV to paste in: https://relitime.com/public-holidays/
A11: 5. The bars fill the weeks each task runs in, for 26 weeks from the start.
A13: Make one online, and download it: https://relitime.com/tools/gantt-chart-maker/
A15: Made by ReliTime - timesheets, approvals, job costing and GST invoicing for consultancies: https://relitime.com
