Workbook

Sheet Balances
A1: Leave planner
A2: Entitlement, accrual, carry-over and what is left, per person.
A4: Leave year starts (month 1-12) | D4: 4
A5: Leave year starting in | D5: 2026
A6: Year starts on | D6: =DATE(D5,D4,1)
A7: Year ends on | D7: =EDATE(D6,12)-1
A9: Name | B9: Entitlement (days a year) | C9: Carried in (days) | D9: Carry-over cap (days) | E9: Accrued so far | F9: Taken (approved) | G9: Booked ahead (pending) | H9: Available now | I9: Left for the year | J9: Carries into next year
A10: Asha Rao (example) | B10: 15 | C10: 2 | D10: 5 | E10: =IF(A10="","",ROUND(B10*MIN(12,MAX(0,DATEDIF($D$6,MIN(TODAY(),$D$7+1),"m")))/12,1)) | F10: =IF(A10="","",SUMIFS(Requests!$E$2:$E$200,Requests!$A$2:$A$200,A10,Requests!$F$2:$F$200,"Approved",Requests!$C$2:$C$200,">="&$D$6,Requests!$C$2:$C$200,"<="&$D$7)) | G10: =IF(A10="","",SUMIFS(Requests!$E$2:$E$200,Requests!$A$2:$A$200,A10,Requests!$F$2:$F$200,"Pending",Requests!$C$2:$C$200,">="&$D$6,Requests!$C$2:$C$200,"<="&$D$7)) | H10: =IF(A10="","",C10+E10-F10) | I10: =IF(A10="","",C10+B10-F10) | J10: =IF(A10="","",IF(D10="",0,MIN(D10,MAX(0,I10))))
A11: James Okafor (example) | B11: 15 | C11: 0 | D11: 5 | E11: =IF(A11="","",ROUND(B11*MIN(12,MAX(0,DATEDIF($D$6,MIN(TODAY(),$D$7+1),"m")))/12,1)) | F11: =IF(A11="","",SUMIFS(Requests!$E$2:$E$200,Requests!$A$2:$A$200,A11,Requests!$F$2:$F$200,"Approved",Requests!$C$2:$C$200,">="&$D$6,Requests!$C$2:$C$200,"<="&$D$7)) | G11: =IF(A11="","",SUMIFS(Requests!$E$2:$E$200,Requests!$A$2:$A$200,A11,Requests!$F$2:$F$200,"Pending",Requests!$C$2:$C$200,">="&$D$6,Requests!$C$2:$C$200,"<="&$D$7)) | H11: =IF(A11="","",C11+E11-F11) | I11: =IF(A11="","",C11+B11-F11) | J11: =IF(A11="","",IF(D11="",0,MIN(D11,MAX(0,I11))))
A12: Meera Iyer (example) | B12: 12 | C12: 3 | E12: =IF(A12="","",ROUND(B12*MIN(12,MAX(0,DATEDIF($D$6,MIN(TODAY(),$D$7+1),"m")))/12,1)) | F12: =IF(A12="","",SUMIFS(Requests!$E$2:$E$200,Requests!$A$2:$A$200,A12,Requests!$F$2:$F$200,"Approved",Requests!$C$2:$C$200,">="&$D$6,Requests!$C$2:$C$200,"<="&$D$7)) | G12: =IF(A12="","",SUMIFS(Requests!$E$2:$E$200,Requests!$A$2:$A$200,A12,Requests!$F$2:$F$200,"Pending",Requests!$C$2:$C$200,">="&$D$6,Requests!$C$2:$C$200,"<="&$D$7)) | H12: =IF(A12="","",C12+E12-F12) | I12: =IF(A12="","",C12+B12-F12) | J12: =IF(A12="","",IF(D12="",0,MIN(D12,MAX(0,I12))))
E13: =IF(A13="","",ROUND(B13*MIN(12,MAX(0,DATEDIF($D$6,MIN(TODAY(),$D$7+1),"m")))/12,1)) | F13: =IF(A13="","",SUMIFS(Requests!$E$2:$E$200,Requests!$A$2:$A$200,A13,Requests!$F$2:$F$200,"Approved",Requests!$C$2:$C$200,">="&$D$6,Requests!$C$2:$C$200,"<="&$D$7)) | G13: =IF(A13="","",SUMIFS(Requests!$E$2:$E$200,Requests!$A$2:$A$200,A13,Requests!$F$2:$F$200,"Pending",Requests!$C$2:$C$200,">="&$D$6,Requests!$C$2:$C$200,"<="&$D$7)) | H13: =IF(A13="","",C13+E13-F13) | I13: =IF(A13="","",C13+B13-F13) | J13: =IF(A13="","",IF(D13="",0,MIN(D13,MAX(0,I13))))
E14: =IF(A14="","",ROUND(B14*MIN(12,MAX(0,DATEDIF($D$6,MIN(TODAY(),$D$7+1),"m")))/12,1)) | F14: =IF(A14="","",SUMIFS(Requests!$E$2:$E$200,Requests!$A$2:$A$200,A14,Requests!$F$2:$F$200,"Approved",Requests!$C$2:$C$200,">="&$D$6,Requests!$C$2:$C$200,"<="&$D$7)) | G14: =IF(A14="","",SUMIFS(Requests!$E$2:$E$200,Requests!$A$2:$A$200,A14,Requests!$F$2:$F$200,"Pending",Requests!$C$2:$C$200,">="&$D$6,Requests!$C$2:$C$200,"<="&$D$7)) | H14: =IF(A14="","",C14+E14-F14) | I14: =IF(A14="","",C14+B14-F14) | J14: =IF(A14="","",IF(D14="",0,MIN(D14,MAX(0,I14))))
E15: =IF(A15="","",ROUND(B15*MIN(12,MAX(0,DATEDIF($D$6,MIN(TODAY(),$D$7+1),"m")))/12,1)) | F15: =IF(A15="","",SUMIFS(Requests!$E$2:$E$200,Requests!$A$2:$A$200,A15,Requests!$F$2:$F$200,"Approved",Requests!$C$2:$C$200,">="&$D$6,Requests!$C$2:$C$200,"<="&$D$7)) | G15: =IF(A15="","",SUMIFS(Requests!$E$2:$E$200,Requests!$A$2:$A$200,A15,Requests!$F$2:$F$200,"Pending",Requests!$C$2:$C$200,">="&$D$6,Requests!$C$2:$C$200,"<="&$D$7)) | H15: =IF(A15="","",C15+E15-F15) | I15: =IF(A15="","",C15+B15-F15) | J15: =IF(A15="","",IF(D15="",0,MIN(D15,MAX(0,I15))))
E16: =IF(A16="","",ROUND(B16*MIN(12,MAX(0,DATEDIF($D$6,MIN(TODAY(),$D$7+1),"m")))/12,1)) | F16: =IF(A16="","",SUMIFS(Requests!$E$2:$E$200,Requests!$A$2:$A$200,A16,Requests!$F$2:$F$200,"Approved",Requests!$C$2:$C$200,">="&$D$6,Requests!$C$2:$C$200,"<="&$D$7)) | G16: =IF(A16="","",SUMIFS(Requests!$E$2:$E$200,Requests!$A$2:$A$200,A16,Requests!$F$2:$F$200,"Pending",Requests!$C$2:$C$200,">="&$D$6,Requests!$C$2:$C$200,"<="&$D$7)) | H16: =IF(A16="","",C16+E16-F16) | I16: =IF(A16="","",C16+B16-F16) | J16: =IF(A16="","",IF(D16="",0,MIN(D16,MAX(0,I16))))
E17: =IF(A17="","",ROUND(B17*MIN(12,MAX(0,DATEDIF($D$6,MIN(TODAY(),$D$7+1),"m")))/12,1)) | F17: =IF(A17="","",SUMIFS(Requests!$E$2:$E$200,Requests!$A$2:$A$200,A17,Requests!$F$2:$F$200,"Approved",Requests!$C$2:$C$200,">="&$D$6,Requests!$C$2:$C$200,"<="&$D$7)) | G17: =IF(A17="","",SUMIFS(Requests!$E$2:$E$200,Requests!$A$2:$A$200,A17,Requests!$F$2:$F$200,"Pending",Requests!$C$2:$C$200,">="&$D$6,Requests!$C$2:$C$200,"<="&$D$7)) | H17: =IF(A17="","",C17+E17-F17) | I17: =IF(A17="","",C17+B17-F17) | J17: =IF(A17="","",IF(D17="",0,MIN(D17,MAX(0,I17))))
E18: =IF(A18="","",ROUND(B18*MIN(12,MAX(0,DATEDIF($D$6,MIN(TODAY(),$D$7+1),"m")))/12,1)) | F18: =IF(A18="","",SUMIFS(Requests!$E$2:$E$200,Requests!$A$2:$A$200,A18,Requests!$F$2:$F$200,"Approved",Requests!$C$2:$C$200,">="&$D$6,Requests!$C$2:$C$200,"<="&$D$7)) | G18: =IF(A18="","",SUMIFS(Requests!$E$2:$E$200,Requests!$A$2:$A$200,A18,Requests!$F$2:$F$200,"Pending",Requests!$C$2:$C$200,">="&$D$6,Requests!$C$2:$C$200,"<="&$D$7)) | H18: =IF(A18="","",C18+E18-F18) | I18: =IF(A18="","",C18+B18-F18) | J18: =IF(A18="","",IF(D18="",0,MIN(D18,MAX(0,I18))))
E19: =IF(A19="","",ROUND(B19*MIN(12,MAX(0,DATEDIF($D$6,MIN(TODAY(),$D$7+1),"m")))/12,1)) | F19: =IF(A19="","",SUMIFS(Requests!$E$2:$E$200,Requests!$A$2:$A$200,A19,Requests!$F$2:$F$200,"Approved",Requests!$C$2:$C$200,">="&$D$6,Requests!$C$2:$C$200,"<="&$D$7)) | G19: =IF(A19="","",SUMIFS(Requests!$E$2:$E$200,Requests!$A$2:$A$200,A19,Requests!$F$2:$F$200,"Pending",Requests!$C$2:$C$200,">="&$D$6,Requests!$C$2:$C$200,"<="&$D$7)) | H19: =IF(A19="","",C19+E19-F19) | I19: =IF(A19="","",C19+B19-F19) | J19: =IF(A19="","",IF(D19="",0,MIN(D19,MAX(0,I19))))
E20: =IF(A20="","",ROUND(B20*MIN(12,MAX(0,DATEDIF($D$6,MIN(TODAY(),$D$7+1),"m")))/12,1)) | F20: =IF(A20="","",SUMIFS(Requests!$E$2:$E$200,Requests!$A$2:$A$200,A20,Requests!$F$2:$F$200,"Approved",Requests!$C$2:$C$200,">="&$D$6,Requests!$C$2:$C$200,"<="&$D$7)) | G20: =IF(A20="","",SUMIFS(Requests!$E$2:$E$200,Requests!$A$2:$A$200,A20,Requests!$F$2:$F$200,"Pending",Requests!$C$2:$C$200,">="&$D$6,Requests!$C$2:$C$200,"<="&$D$7)) | H20: =IF(A20="","",C20+E20-F20) | I20: =IF(A20="","",C20+B20-F20) | J20: =IF(A20="","",IF(D20="",0,MIN(D20,MAX(0,I20))))
E21: =IF(A21="","",ROUND(B21*MIN(12,MAX(0,DATEDIF($D$6,MIN(TODAY(),$D$7+1),"m")))/12,1)) | F21: =IF(A21="","",SUMIFS(Requests!$E$2:$E$200,Requests!$A$2:$A$200,A21,Requests!$F$2:$F$200,"Approved",Requests!$C$2:$C$200,">="&$D$6,Requests!$C$2:$C$200,"<="&$D$7)) | G21: =IF(A21="","",SUMIFS(Requests!$E$2:$E$200,Requests!$A$2:$A$200,A21,Requests!$F$2:$F$200,"Pending",Requests!$C$2:$C$200,">="&$D$6,Requests!$C$2:$C$200,"<="&$D$7)) | H21: =IF(A21="","",C21+E21-F21) | I21: =IF(A21="","",C21+B21-F21) | J21: =IF(A21="","",IF(D21="",0,MIN(D21,MAX(0,I21))))
E22: =IF(A22="","",ROUND(B22*MIN(12,MAX(0,DATEDIF($D$6,MIN(TODAY(),$D$7+1),"m")))/12,1)) | F22: =IF(A22="","",SUMIFS(Requests!$E$2:$E$200,Requests!$A$2:$A$200,A22,Requests!$F$2:$F$200,"Approved",Requests!$C$2:$C$200,">="&$D$6,Requests!$C$2:$C$200,"<="&$D$7)) | G22: =IF(A22="","",SUMIFS(Requests!$E$2:$E$200,Requests!$A$2:$A$200,A22,Requests!$F$2:$F$200,"Pending",Requests!$C$2:$C$200,">="&$D$6,Requests!$C$2:$C$200,"<="&$D$7)) | H22: =IF(A22="","",C22+E22-F22) | I22: =IF(A22="","",C22+B22-F22) | J22: =IF(A22="","",IF(D22="",0,MIN(D22,MAX(0,I22))))
E23: =IF(A23="","",ROUND(B23*MIN(12,MAX(0,DATEDIF($D$6,MIN(TODAY(),$D$7+1),"m")))/12,1)) | F23: =IF(A23="","",SUMIFS(Requests!$E$2:$E$200,Requests!$A$2:$A$200,A23,Requests!$F$2:$F$200,"Approved",Requests!$C$2:$C$200,">="&$D$6,Requests!$C$2:$C$200,"<="&$D$7)) | G23: =IF(A23="","",SUMIFS(Requests!$E$2:$E$200,Requests!$A$2:$A$200,A23,Requests!$F$2:$F$200,"Pending",Requests!$C$2:$C$200,">="&$D$6,Requests!$C$2:$C$200,"<="&$D$7)) | H23: =IF(A23="","",C23+E23-F23) | I23: =IF(A23="","",C23+B23-F23) | J23: =IF(A23="","",IF(D23="",0,MIN(D23,MAX(0,I23))))
E24: =IF(A24="","",ROUND(B24*MIN(12,MAX(0,DATEDIF($D$6,MIN(TODAY(),$D$7+1),"m")))/12,1)) | F24: =IF(A24="","",SUMIFS(Requests!$E$2:$E$200,Requests!$A$2:$A$200,A24,Requests!$F$2:$F$200,"Approved",Requests!$C$2:$C$200,">="&$D$6,Requests!$C$2:$C$200,"<="&$D$7)) | G24: =IF(A24="","",SUMIFS(Requests!$E$2:$E$200,Requests!$A$2:$A$200,A24,Requests!$F$2:$F$200,"Pending",Requests!$C$2:$C$200,">="&$D$6,Requests!$C$2:$C$200,"<="&$D$7)) | H24: =IF(A24="","",C24+E24-F24) | I24: =IF(A24="","",C24+B24-F24) | J24: =IF(A24="","",IF(D24="",0,MIN(D24,MAX(0,I24))))
... E34: =IF(A34="","",ROUND(B34*MIN(12,MAX(0,DATEDIF($D$6,MIN(TODAY(),$D$7+1),"m")))/12,1)) | F34: =IF(A34="","",SUMIFS(Requests!$E$2:$E$200,Requests!$A$2:$A$200,A34,Requests!$F$2:$F$200,"Approved",Requests!$C$2:$C$200,">="&$D$6,Requests!$C$2:$C$200,"<="&$D$7)) | G34: =IF(A34="","",SUMIFS(Requests!$E$2:$E$200,Requests!$A$2:$A$200,A34,Requests!$F$2:$F$200,"Pending",Requests!$C$2:$C$200,">="&$D$6,Requests!$C$2:$C$200,"<="&$D$7)) | H34: =IF(A34="","",C34+E34-F34) | I34: =IF(A34="","",C34+B34-F34) | J34: =IF(A34="","",IF(D34="",0,MIN(D34,MAX(0,I34))))
A36: Made by ReliTime - timesheets, approvals, job costing and GST invoicing for consultancies: https://relitime.com

Sheet Requests
A1: Name | B1: Type | C1: From | D1: To | E1: Working days | F1: Status | G1: Note
A2: Asha Rao (example) | B2: Earned | C2: 46314 | D2: 46318 | E2: =IF(OR(C2="",D2=""),"",NETWORKDAYS(C2,D2,Holidays!$A$2:$A$60)) | F2: Approved
A3: James Okafor (example) | B3: Casual | C3: 46302 | D3: 46302 | E3: =IF(OR(C3="",D3=""),"",NETWORKDAYS(C3,D3,Holidays!$A$2:$A$60)) | F3: Approved
A4: Meera Iyer (example) | B4: Earned | C4: 46328 | D4: 46332 | E4: =IF(OR(C4="",D4=""),"",NETWORKDAYS(C4,D4,Holidays!$A$2:$A$60)) | F4: Pending
E5: =IF(OR(C5="",D5=""),"",NETWORKDAYS(C5,D5,Holidays!$A$2:$A$60))
E6: =IF(OR(C6="",D6=""),"",NETWORKDAYS(C6,D6,Holidays!$A$2:$A$60))
E7: =IF(OR(C7="",D7=""),"",NETWORKDAYS(C7,D7,Holidays!$A$2:$A$60))
E8: =IF(OR(C8="",D8=""),"",NETWORKDAYS(C8,D8,Holidays!$A$2:$A$60))
E9: =IF(OR(C9="",D9=""),"",NETWORKDAYS(C9,D9,Holidays!$A$2:$A$60))
E10: =IF(OR(C10="",D10=""),"",NETWORKDAYS(C10,D10,Holidays!$A$2:$A$60))
E11: =IF(OR(C11="",D11=""),"",NETWORKDAYS(C11,D11,Holidays!$A$2:$A$60))
E12: =IF(OR(C12="",D12=""),"",NETWORKDAYS(C12,D12,Holidays!$A$2:$A$60))
E13: =IF(OR(C13="",D13=""),"",NETWORKDAYS(C13,D13,Holidays!$A$2:$A$60))
E14: =IF(OR(C14="",D14=""),"",NETWORKDAYS(C14,D14,Holidays!$A$2:$A$60))
E15: =IF(OR(C15="",D15=""),"",NETWORKDAYS(C15,D15,Holidays!$A$2:$A$60))
E16: =IF(OR(C16="",D16=""),"",NETWORKDAYS(C16,D16,Holidays!$A$2:$A$60))
... E200: =IF(OR(C200="",D200=""),"",NETWORKDAYS(C200,D200,Holidays!$A$2:$A$60))

Sheet Holidays
A1: Date | B1: Public holiday
A2: 46297 | B2: Gandhi Jayanti (example)
A3: 46327 | B3: Kannada Rajyotsava (example)

Sheet Who is away
A1: Who is away
A2: A = approved leave, P = pending. Weekends and holidays are shaded.
A4: Month starting | C4: 46296
A6: Name | B6: =IF(DAY($C$4+0)<1,"",$C$4+0) | C6: =IF(DAY($C$4+1)<2,"",$C$4+1) | D6: =IF(DAY($C$4+2)<3,"",$C$4+2) | E6: =IF(DAY($C$4+3)<4,"",$C$4+3) | F6: =IF(DAY($C$4+4)<5,"",$C$4+4) | G6: =IF(DAY($C$4+5)<6,"",$C$4+5) | H6: =IF(DAY($C$4+6)<7,"",$C$4+6) | I6: =IF(DAY($C$4+7)<8,"",$C$4+7) | J6: =IF(DAY($C$4+8)<9,"",$C$4+8) | K6: =IF(DAY($C$4+9)<10,"",$C$4+9) | L6: =IF(DAY($C$4+10)<11,"",$C$4+10) | M6: =IF(DAY($C$4+11)<12,"",$C$4+11) | N6: =IF(DAY($C$4+12)<13,"",$C$4+12) | O6: =IF(DAY($C$4+13)<14,"",$C$4+13) | P6: =IF(DAY($C$4+14)<15,"",$C$4+14) | Q6: =IF(DAY($C$4+15)<16,"",$C$4+15) | R6: =IF(DAY($C$4+16)<17,"",$C$4+16) | S6: =IF(DAY($C$4+17)<18,"",$C$4+17) | T6: =IF(DAY($C$4+18)<19,"",$C$4+18) | U6: =IF(DAY($C$4+19)<20,"",$C$4+19) | V6: =IF(DAY($C$4+20)<21,"",$C$4+20) | W6: =IF(DAY($C$4+21)<22,"",$C$4+21) | X6: =IF(DAY($C$4+22)<23,"",$C$4+22) | Y6: =IF(DAY($C$4+23)<24,"",$C$4+23) | Z6: =IF(DAY($C$4+24)<25,"",$C$4+24) | AA6: =IF(DAY($C$4+25)<26,"",$C$4+25) | AB6: =IF(DAY($C$4+26)<27,"",$C$4+26) | AC6: =IF(DAY($C$4+27)<28,"",$C$4+27) | AD6: =IF(DAY($C$4+28)<29,"",$C$4+28) | AE6: =IF(DAY($C$4+29)<30,"",$C$4+29) | AF6: =IF(DAY($C$4+30)<31,"",$C$4+30)
A7: =IF(Balances!A10="","",Balances!A10) | B7: =IF(OR($A7="",B$6=""),"",IF(COUNTIFS(Requests!$A$2:$A$200,$A7,Requests!$C$2:$C$200,"<="&B$6,Requests!$D$2:$D$200,">="&B$6,Requests!$F$2:$F$200,"Approved")>0,"A",IF(COUNTIFS(Requests!$A$2:$A$200,$A7,Requests!$C$2:$C$200,"<="&B$6,Requests!$D$2:$D$200,">="&B$6,Requests!$F$2:$F$200,"Pending")>0,"P",""))) | C7: =IF(OR($A7="",C$6=""),"",IF(COUNTIFS(Requests!$A$2:$A$200,$A7,Requests!$C$2:$C$200,"<="&C$6,Requests!$D$2:$D$200,">="&C$6,Requests!$F$2:$F$200,"Approved")>0,"A",IF(COUNTIFS(Requests!$A$2:$A$200,$A7,Requests!$C$2:$C$200,"<="&C$6,Requests!$D$2:$D$200,">="&C$6,Requests!$F$2:$F$200,"Pending")>0,"P",""))) | D7: =IF(OR($A7="",D$6=""),"",IF(COUNTIFS(Requests!$A$2:$A$200,$A7,Requests!$C$2:$C$200,"<="&D$6,Requests!$D$2:$D$200,">="&D$6,Requests!$F$2:$F$200,"Approved")>0,"A",IF(COUNTIFS(Requests!$A$2:$A$200,$A7,Requests!$C$2:$C$200,"<="&D$6,Requests!$D$2:$D$200,">="&D$6,Requests!$F$2:$F$200,"Pending")>0,"P",""))) | E7: =IF(OR($A7="",E$6=""),"",IF(COUNTIFS(Requests!$A$2:$A$200,$A7,Requests!$C$2:$C$200,"<="&E$6,Requests!$D$2:$D$200,">="&E$6,Requests!$F$2:$F$200,"Approved")>0,"A",IF(COUNTIFS(Requests!$A$2:$A$200,$A7,Requests!$C$2:$C$200,"<="&E$6,Requests!$D$2:$D$200,">="&E$6,Requests!$F$2:$F$200,"Pending")>0,"P",""))) | F7: =IF(OR($A7="",F$6=""),"",IF(COUNTIFS(Requests!$A$2:$A$200,$A7,Requests!$C$2:$C$200,"<="&F$6,Requests!$D$2:$D$200,">="&F$6,Requests!$F$2:$F$200,"Approved")>0,"A",IF(COUNTIFS(Requests!$A$2:$A$200,$A7,Requests!$C$2:$C$200,"<="&F$6,Requests!$D$2:$D$200,">="&F$6,Requests!$F$2:$F$200,"Pending")>0,"P",""))) | G7: =IF(OR($A7="",G$6=""),"",IF(COUNTIFS(Requests!$A$2:$A$200,$A7,Requests!$C$2:$C$200,"<="&G$6,Requests!$D$2:$D$200,">="&G$6,Requests!$F$2:$F$200,"Approved")>0,"A",IF(COUNTIFS(Requests!$A$2:$A$200,$A7,Requests!$C$2:$C$200,"<="&G$6,Requests!$D$2:$D$200,">="&G$6,Requests!$F$2:$F$200,"Pending")>0,"P",""))) | H7: =IF(OR($A7="",H$6=""),"",IF(COUNTIFS(Requests!$A$2:$A$200,$A7,Requests!$C$2:$C$200,"<="&H$6,Requests!$D$2:$D$200,">="&H$6,Requests!$F$2:$F$200,"Approved")>0,"A",IF(COUNTIFS(Requests!$A$2:$A$200,$A7,Requests!$C$2:$C$200,"<="&H$6,Requests!$D$2:$D$200,">="&H$6,Requests!$F$2:$F$200,"Pending")>0,"P",""))) | I7: =IF(OR($A7="",I$6=""),"",IF(COUNTIFS(Requests!$A$2:$A$200,$A7,Requests!$C$2:$C$200,"<="&I$6,Requests!$D$2:$D$200,">="&I$6,Requests!$F$2:$F$200,"Approved")>0,"A",IF(COUNTIFS(Requests!$A$2:$A$200,$A7,Requests!$C$2:$C$200,"<="&I$6,Requests!$D$2:$D$200,">="&I$6,Requests!$F$2:$F$200,"Pending")>0,"P",""))) | ... AF7: =IF(OR($A7="",AF$6=""),"",IF(COUNTIFS(Requests!$A$2:$A$200,$A7,Requests!$C$2:$C$200,"<="&AF$6,Requests!$D$2:$D$200,">="&AF$6,Requests!$F$2:$F$200,"Approved")>0,"A",IF(COUNTIFS(Requests!$A$2:$A$200,$A7,Requests!$C$2:$C$200,"<="&AF$6,Requests!$D$2:$D$200,">="&AF$6,Requests!$F$2:$F$200,"Pending")>0,"P","")))
A8: =IF(Balances!A11="","",Balances!A11) | B8: =IF(OR($A8="",B$6=""),"",IF(COUNTIFS(Requests!$A$2:$A$200,$A8,Requests!$C$2:$C$200,"<="&B$6,Requests!$D$2:$D$200,">="&B$6,Requests!$F$2:$F$200,"Approved")>0,"A",IF(COUNTIFS(Requests!$A$2:$A$200,$A8,Requests!$C$2:$C$200,"<="&B$6,Requests!$D$2:$D$200,">="&B$6,Requests!$F$2:$F$200,"Pending")>0,"P",""))) | C8: =IF(OR($A8="",C$6=""),"",IF(COUNTIFS(Requests!$A$2:$A$200,$A8,Requests!$C$2:$C$200,"<="&C$6,Requests!$D$2:$D$200,">="&C$6,Requests!$F$2:$F$200,"Approved")>0,"A",IF(COUNTIFS(Requests!$A$2:$A$200,$A8,Requests!$C$2:$C$200,"<="&C$6,Requests!$D$2:$D$200,">="&C$6,Requests!$F$2:$F$200,"Pending")>0,"P",""))) | D8: =IF(OR($A8="",D$6=""),"",IF(COUNTIFS(Requests!$A$2:$A$200,$A8,Requests!$C$2:$C$200,"<="&D$6,Requests!$D$2:$D$200,">="&D$6,Requests!$F$2:$F$200,"Approved")>0,"A",IF(COUNTIFS(Requests!$A$2:$A$200,$A8,Requests!$C$2:$C$200,"<="&D$6,Requests!$D$2:$D$200,">="&D$6,Requests!$F$2:$F$200,"Pending")>0,"P",""))) | E8: =IF(OR($A8="",E$6=""),"",IF(COUNTIFS(Requests!$A$2:$A$200,$A8,Requests!$C$2:$C$200,"<="&E$6,Requests!$D$2:$D$200,">="&E$6,Requests!$F$2:$F$200,"Approved")>0,"A",IF(COUNTIFS(Requests!$A$2:$A$200,$A8,Requests!$C$2:$C$200,"<="&E$6,Requests!$D$2:$D$200,">="&E$6,Requests!$F$2:$F$200,"Pending")>0,"P",""))) | F8: =IF(OR($A8="",F$6=""),"",IF(COUNTIFS(Requests!$A$2:$A$200,$A8,Requests!$C$2:$C$200,"<="&F$6,Requests!$D$2:$D$200,">="&F$6,Requests!$F$2:$F$200,"Approved")>0,"A",IF(COUNTIFS(Requests!$A$2:$A$200,$A8,Requests!$C$2:$C$200,"<="&F$6,Requests!$D$2:$D$200,">="&F$6,Requests!$F$2:$F$200,"Pending")>0,"P",""))) | G8: =IF(OR($A8="",G$6=""),"",IF(COUNTIFS(Requests!$A$2:$A$200,$A8,Requests!$C$2:$C$200,"<="&G$6,Requests!$D$2:$D$200,">="&G$6,Requests!$F$2:$F$200,"Approved")>0,"A",IF(COUNTIFS(Requests!$A$2:$A$200,$A8,Requests!$C$2:$C$200,"<="&G$6,Requests!$D$2:$D$200,">="&G$6,Requests!$F$2:$F$200,"Pending")>0,"P",""))) | H8: =IF(OR($A8="",H$6=""),"",IF(COUNTIFS(Requests!$A$2:$A$200,$A8,Requests!$C$2:$C$200,"<="&H$6,Requests!$D$2:$D$200,">="&H$6,Requests!$F$2:$F$200,"Approved")>0,"A",IF(COUNTIFS(Requests!$A$2:$A$200,$A8,Requests!$C$2:$C$200,"<="&H$6,Requests!$D$2:$D$200,">="&H$6,Requests!$F$2:$F$200,"Pending")>0,"P",""))) | I8: =IF(OR($A8="",I$6=""),"",IF(COUNTIFS(Requests!$A$2:$A$200,$A8,Requests!$C$2:$C$200,"<="&I$6,Requests!$D$2:$D$200,">="&I$6,Requests!$F$2:$F$200,"Approved")>0,"A",IF(COUNTIFS(Requests!$A$2:$A$200,$A8,Requests!$C$2:$C$200,"<="&I$6,Requests!$D$2:$D$200,">="&I$6,Requests!$F$2:$F$200,"Pending")>0,"P",""))) | ... AF8: =IF(OR($A8="",AF$6=""),"",IF(COUNTIFS(Requests!$A$2:$A$200,$A8,Requests!$C$2:$C$200,"<="&AF$6,Requests!$D$2:$D$200,">="&AF$6,Requests!$F$2:$F$200,"Approved")>0,"A",IF(COUNTIFS(Requests!$A$2:$A$200,$A8,Requests!$C$2:$C$200,"<="&AF$6,Requests!$D$2:$D$200,">="&AF$6,Requests!$F$2:$F$200,"Pending")>0,"P","")))
A9: =IF(Balances!A12="","",Balances!A12) | B9: =IF(OR($A9="",B$6=""),"",IF(COUNTIFS(Requests!$A$2:$A$200,$A9,Requests!$C$2:$C$200,"<="&B$6,Requests!$D$2:$D$200,">="&B$6,Requests!$F$2:$F$200,"Approved")>0,"A",IF(COUNTIFS(Requests!$A$2:$A$200,$A9,Requests!$C$2:$C$200,"<="&B$6,Requests!$D$2:$D$200,">="&B$6,Requests!$F$2:$F$200,"Pending")>0,"P",""))) | C9: =IF(OR($A9="",C$6=""),"",IF(COUNTIFS(Requests!$A$2:$A$200,$A9,Requests!$C$2:$C$200,"<="&C$6,Requests!$D$2:$D$200,">="&C$6,Requests!$F$2:$F$200,"Approved")>0,"A",IF(COUNTIFS(Requests!$A$2:$A$200,$A9,Requests!$C$2:$C$200,"<="&C$6,Requests!$D$2:$D$200,">="&C$6,Requests!$F$2:$F$200,"Pending")>0,"P",""))) | D9: =IF(OR($A9="",D$6=""),"",IF(COUNTIFS(Requests!$A$2:$A$200,$A9,Requests!$C$2:$C$200,"<="&D$6,Requests!$D$2:$D$200,">="&D$6,Requests!$F$2:$F$200,"Approved")>0,"A",IF(COUNTIFS(Requests!$A$2:$A$200,$A9,Requests!$C$2:$C$200,"<="&D$6,Requests!$D$2:$D$200,">="&D$6,Requests!$F$2:$F$200,"Pending")>0,"P",""))) | E9: =IF(OR($A9="",E$6=""),"",IF(COUNTIFS(Requests!$A$2:$A$200,$A9,Requests!$C$2:$C$200,"<="&E$6,Requests!$D$2:$D$200,">="&E$6,Requests!$F$2:$F$200,"Approved")>0,"A",IF(COUNTIFS(Requests!$A$2:$A$200,$A9,Requests!$C$2:$C$200,"<="&E$6,Requests!$D$2:$D$200,">="&E$6,Requests!$F$2:$F$200,"Pending")>0,"P",""))) | F9: =IF(OR($A9="",F$6=""),"",IF(COUNTIFS(Requests!$A$2:$A$200,$A9,Requests!$C$2:$C$200,"<="&F$6,Requests!$D$2:$D$200,">="&F$6,Requests!$F$2:$F$200,"Approved")>0,"A",IF(COUNTIFS(Requests!$A$2:$A$200,$A9,Requests!$C$2:$C$200,"<="&F$6,Requests!$D$2:$D$200,">="&F$6,Requests!$F$2:$F$200,"Pending")>0,"P",""))) | G9: =IF(OR($A9="",G$6=""),"",IF(COUNTIFS(Requests!$A$2:$A$200,$A9,Requests!$C$2:$C$200,"<="&G$6,Requests!$D$2:$D$200,">="&G$6,Requests!$F$2:$F$200,"Approved")>0,"A",IF(COUNTIFS(Requests!$A$2:$A$200,$A9,Requests!$C$2:$C$200,"<="&G$6,Requests!$D$2:$D$200,">="&G$6,Requests!$F$2:$F$200,"Pending")>0,"P",""))) | H9: =IF(OR($A9="",H$6=""),"",IF(COUNTIFS(Requests!$A$2:$A$200,$A9,Requests!$C$2:$C$200,"<="&H$6,Requests!$D$2:$D$200,">="&H$6,Requests!$F$2:$F$200,"Approved")>0,"A",IF(COUNTIFS(Requests!$A$2:$A$200,$A9,Requests!$C$2:$C$200,"<="&H$6,Requests!$D$2:$D$200,">="&H$6,Requests!$F$2:$F$200,"Pending")>0,"P",""))) | I9: =IF(OR($A9="",I$6=""),"",IF(COUNTIFS(Requests!$A$2:$A$200,$A9,Requests!$C$2:$C$200,"<="&I$6,Requests!$D$2:$D$200,">="&I$6,Requests!$F$2:$F$200,"Approved")>0,"A",IF(COUNTIFS(Requests!$A$2:$A$200,$A9,Requests!$C$2:$C$200,"<="&I$6,Requests!$D$2:$D$200,">="&I$6,Requests!$F$2:$F$200,"Pending")>0,"P",""))) | ... AF9: =IF(OR($A9="",AF$6=""),"",IF(COUNTIFS(Requests!$A$2:$A$200,$A9,Requests!$C$2:$C$200,"<="&AF$6,Requests!$D$2:$D$200,">="&AF$6,Requests!$F$2:$F$200,"Approved")>0,"A",IF(COUNTIFS(Requests!$A$2:$A$200,$A9,Requests!$C$2:$C$200,"<="&AF$6,Requests!$D$2:$D$200,">="&AF$6,Requests!$F$2:$F$200,"Pending")>0,"P","")))
A10: =IF(Balances!A13="","",Balances!A13) | B10: =IF(OR($A10="",B$6=""),"",IF(COUNTIFS(Requests!$A$2:$A$200,$A10,Requests!$C$2:$C$200,"<="&B$6,Requests!$D$2:$D$200,">="&B$6,Requests!$F$2:$F$200,"Approved")>0,"A",IF(COUNTIFS(Requests!$A$2:$A$200,$A10,Requests!$C$2:$C$200,"<="&B$6,Requests!$D$2:$D$200,">="&B$6,Requests!$F$2:$F$200,"Pending")>0,"P",""))) | C10: =IF(OR($A10="",C$6=""),"",IF(COUNTIFS(Requests!$A$2:$A$200,$A10,Requests!$C$2:$C$200,"<="&C$6,Requests!$D$2:$D$200,">="&C$6,Requests!$F$2:$F$200,"Approved")>0,"A",IF(COUNTIFS(Requests!$A$2:$A$200,$A10,Requests!$C$2:$C$200,"<="&C$6,Requests!$D$2:$D$200,">="&C$6,Requests!$F$2:$F$200,"Pending")>0,"P",""))) | D10: =IF(OR($A10="",D$6=""),"",IF(COUNTIFS(Requests!$A$2:$A$200,$A10,Requests!$C$2:$C$200,"<="&D$6,Requests!$D$2:$D$200,">="&D$6,Requests!$F$2:$F$200,"Approved")>0,"A",IF(COUNTIFS(Requests!$A$2:$A$200,$A10,Requests!$C$2:$C$200,"<="&D$6,Requests!$D$2:$D$200,">="&D$6,Requests!$F$2:$F$200,"Pending")>0,"P",""))) | E10: =IF(OR($A10="",E$6=""),"",IF(COUNTIFS(Requests!$A$2:$A$200,$A10,Requests!$C$2:$C$200,"<="&E$6,Requests!$D$2:$D$200,">="&E$6,Requests!$F$2:$F$200,"Approved")>0,"A",IF(COUNTIFS(Requests!$A$2:$A$200,$A10,Requests!$C$2:$C$200,"<="&E$6,Requests!$D$2:$D$200,">="&E$6,Requests!$F$2:$F$200,"Pending")>0,"P",""))) | F10: =IF(OR($A10="",F$6=""),"",IF(COUNTIFS(Requests!$A$2:$A$200,$A10,Requests!$C$2:$C$200,"<="&F$6,Requests!$D$2:$D$200,">="&F$6,Requests!$F$2:$F$200,"Approved")>0,"A",IF(COUNTIFS(Requests!$A$2:$A$200,$A10,Requests!$C$2:$C$200,"<="&F$6,Requests!$D$2:$D$200,">="&F$6,Requests!$F$2:$F$200,"Pending")>0,"P",""))) | G10: =IF(OR($A10="",G$6=""),"",IF(COUNTIFS(Requests!$A$2:$A$200,$A10,Requests!$C$2:$C$200,"<="&G$6,Requests!$D$2:$D$200,">="&G$6,Requests!$F$2:$F$200,"Approved")>0,"A",IF(COUNTIFS(Requests!$A$2:$A$200,$A10,Requests!$C$2:$C$200,"<="&G$6,Requests!$D$2:$D$200,">="&G$6,Requests!$F$2:$F$200,"Pending")>0,"P",""))) | H10: =IF(OR($A10="",H$6=""),"",IF(COUNTIFS(Requests!$A$2:$A$200,$A10,Requests!$C$2:$C$200,"<="&H$6,Requests!$D$2:$D$200,">="&H$6,Requests!$F$2:$F$200,"Approved")>0,"A",IF(COUNTIFS(Requests!$A$2:$A$200,$A10,Requests!$C$2:$C$200,"<="&H$6,Requests!$D$2:$D$200,">="&H$6,Requests!$F$2:$F$200,"Pending")>0,"P",""))) | I10: =IF(OR($A10="",I$6=""),"",IF(COUNTIFS(Requests!$A$2:$A$200,$A10,Requests!$C$2:$C$200,"<="&I$6,Requests!$D$2:$D$200,">="&I$6,Requests!$F$2:$F$200,"Approved")>0,"A",IF(COUNTIFS(Requests!$A$2:$A$200,$A10,Requests!$C$2:$C$200,"<="&I$6,Requests!$D$2:$D$200,">="&I$6,Requests!$F$2:$F$200,"Pending")>0,"P",""))) | ... AF10: =IF(OR($A10="",AF$6=""),"",IF(COUNTIFS(Requests!$A$2:$A$200,$A10,Requests!$C$2:$C$200,"<="&AF$6,Requests!$D$2:$D$200,">="&AF$6,Requests!$F$2:$F$200,"Approved")>0,"A",IF(COUNTIFS(Requests!$A$2:$A$200,$A10,Requests!$C$2:$C$200,"<="&AF$6,Requests!$D$2:$D$200,">="&AF$6,Requests!$F$2:$F$200,"Pending")>0,"P","")))
A11: =IF(Balances!A14="","",Balances!A14) | B11: =IF(OR($A11="",B$6=""),"",IF(COUNTIFS(Requests!$A$2:$A$200,$A11,Requests!$C$2:$C$200,"<="&B$6,Requests!$D$2:$D$200,">="&B$6,Requests!$F$2:$F$200,"Approved")>0,"A",IF(COUNTIFS(Requests!$A$2:$A$200,$A11,Requests!$C$2:$C$200,"<="&B$6,Requests!$D$2:$D$200,">="&B$6,Requests!$F$2:$F$200,"Pending")>0,"P",""))) | C11: =IF(OR($A11="",C$6=""),"",IF(COUNTIFS(Requests!$A$2:$A$200,$A11,Requests!$C$2:$C$200,"<="&C$6,Requests!$D$2:$D$200,">="&C$6,Requests!$F$2:$F$200,"Approved")>0,"A",IF(COUNTIFS(Requests!$A$2:$A$200,$A11,Requests!$C$2:$C$200,"<="&C$6,Requests!$D$2:$D$200,">="&C$6,Requests!$F$2:$F$200,"Pending")>0,"P",""))) | D11: =IF(OR($A11="",D$6=""),"",IF(COUNTIFS(Requests!$A$2:$A$200,$A11,Requests!$C$2:$C$200,"<="&D$6,Requests!$D$2:$D$200,">="&D$6,Requests!$F$2:$F$200,"Approved")>0,"A",IF(COUNTIFS(Requests!$A$2:$A$200,$A11,Requests!$C$2:$C$200,"<="&D$6,Requests!$D$2:$D$200,">="&D$6,Requests!$F$2:$F$200,"Pending")>0,"P",""))) | E11: =IF(OR($A11="",E$6=""),"",IF(COUNTIFS(Requests!$A$2:$A$200,$A11,Requests!$C$2:$C$200,"<="&E$6,Requests!$D$2:$D$200,">="&E$6,Requests!$F$2:$F$200,"Approved")>0,"A",IF(COUNTIFS(Requests!$A$2:$A$200,$A11,Requests!$C$2:$C$200,"<="&E$6,Requests!$D$2:$D$200,">="&E$6,Requests!$F$2:$F$200,"Pending")>0,"P",""))) | F11: =IF(OR($A11="",F$6=""),"",IF(COUNTIFS(Requests!$A$2:$A$200,$A11,Requests!$C$2:$C$200,"<="&F$6,Requests!$D$2:$D$200,">="&F$6,Requests!$F$2:$F$200,"Approved")>0,"A",IF(COUNTIFS(Requests!$A$2:$A$200,$A11,Requests!$C$2:$C$200,"<="&F$6,Requests!$D$2:$D$200,">="&F$6,Requests!$F$2:$F$200,"Pending")>0,"P",""))) | G11: =IF(OR($A11="",G$6=""),"",IF(COUNTIFS(Requests!$A$2:$A$200,$A11,Requests!$C$2:$C$200,"<="&G$6,Requests!$D$2:$D$200,">="&G$6,Requests!$F$2:$F$200,"Approved")>0,"A",IF(COUNTIFS(Requests!$A$2:$A$200,$A11,Requests!$C$2:$C$200,"<="&G$6,Requests!$D$2:$D$200,">="&G$6,Requests!$F$2:$F$200,"Pending")>0,"P",""))) | H11: =IF(OR($A11="",H$6=""),"",IF(COUNTIFS(Requests!$A$2:$A$200,$A11,Requests!$C$2:$C$200,"<="&H$6,Requests!$D$2:$D$200,">="&H$6,Requests!$F$2:$F$200,"Approved")>0,"A",IF(COUNTIFS(Requests!$A$2:$A$200,$A11,Requests!$C$2:$C$200,"<="&H$6,Requests!$D$2:$D$200,">="&H$6,Requests!$F$2:$F$200,"Pending")>0,"P",""))) | I11: =IF(OR($A11="",I$6=""),"",IF(COUNTIFS(Requests!$A$2:$A$200,$A11,Requests!$C$2:$C$200,"<="&I$6,Requests!$D$2:$D$200,">="&I$6,Requests!$F$2:$F$200,"Approved")>0,"A",IF(COUNTIFS(Requests!$A$2:$A$200,$A11,Requests!$C$2:$C$200,"<="&I$6,Requests!$D$2:$D$200,">="&I$6,Requests!$F$2:$F$200,"Pending")>0,"P",""))) | ... AF11: =IF(OR($A11="",AF$6=""),"",IF(COUNTIFS(Requests!$A$2:$A$200,$A11,Requests!$C$2:$C$200,"<="&AF$6,Requests!$D$2:$D$200,">="&AF$6,Requests!$F$2:$F$200,"Approved")>0,"A",IF(COUNTIFS(Requests!$A$2:$A$200,$A11,Requests!$C$2:$C$200,"<="&AF$6,Requests!$D$2:$D$200,">="&AF$6,Requests!$F$2:$F$200,"Pending")>0,"P","")))
A12: =IF(Balances!A15="","",Balances!A15) | B12: =IF(OR($A12="",B$6=""),"",IF(COUNTIFS(Requests!$A$2:$A$200,$A12,Requests!$C$2:$C$200,"<="&B$6,Requests!$D$2:$D$200,">="&B$6,Requests!$F$2:$F$200,"Approved")>0,"A",IF(COUNTIFS(Requests!$A$2:$A$200,$A12,Requests!$C$2:$C$200,"<="&B$6,Requests!$D$2:$D$200,">="&B$6,Requests!$F$2:$F$200,"Pending")>0,"P",""))) | C12: =IF(OR($A12="",C$6=""),"",IF(COUNTIFS(Requests!$A$2:$A$200,$A12,Requests!$C$2:$C$200,"<="&C$6,Requests!$D$2:$D$200,">="&C$6,Requests!$F$2:$F$200,"Approved")>0,"A",IF(COUNTIFS(Requests!$A$2:$A$200,$A12,Requests!$C$2:$C$200,"<="&C$6,Requests!$D$2:$D$200,">="&C$6,Requests!$F$2:$F$200,"Pending")>0,"P",""))) | D12: =IF(OR($A12="",D$6=""),"",IF(COUNTIFS(Requests!$A$2:$A$200,$A12,Requests!$C$2:$C$200,"<="&D$6,Requests!$D$2:$D$200,">="&D$6,Requests!$F$2:$F$200,"Approved")>0,"A",IF(COUNTIFS(Requests!$A$2:$A$200,$A12,Requests!$C$2:$C$200,"<="&D$6,Requests!$D$2:$D$200,">="&D$6,Requests!$F$2:$F$200,"Pending")>0,"P",""))) | E12: =IF(OR($A12="",E$6=""),"",IF(COUNTIFS(Requests!$A$2:$A$200,$A12,Requests!$C$2:$C$200,"<="&E$6,Requests!$D$2:$D$200,">="&E$6,Requests!$F$2:$F$200,"Approved")>0,"A",IF(COUNTIFS(Requests!$A$2:$A$200,$A12,Requests!$C$2:$C$200,"<="&E$6,Requests!$D$2:$D$200,">="&E$6,Requests!$F$2:$F$200,"Pending")>0,"P",""))) | F12: =IF(OR($A12="",F$6=""),"",IF(COUNTIFS(Requests!$A$2:$A$200,$A12,Requests!$C$2:$C$200,"<="&F$6,Requests!$D$2:$D$200,">="&F$6,Requests!$F$2:$F$200,"Approved")>0,"A",IF(COUNTIFS(Requests!$A$2:$A$200,$A12,Requests!$C$2:$C$200,"<="&F$6,Requests!$D$2:$D$200,">="&F$6,Requests!$F$2:$F$200,"Pending")>0,"P",""))) | G12: =IF(OR($A12="",G$6=""),"",IF(COUNTIFS(Requests!$A$2:$A$200,$A12,Requests!$C$2:$C$200,"<="&G$6,Requests!$D$2:$D$200,">="&G$6,Requests!$F$2:$F$200,"Approved")>0,"A",IF(COUNTIFS(Requests!$A$2:$A$200,$A12,Requests!$C$2:$C$200,"<="&G$6,Requests!$D$2:$D$200,">="&G$6,Requests!$F$2:$F$200,"Pending")>0,"P",""))) | H12: =IF(OR($A12="",H$6=""),"",IF(COUNTIFS(Requests!$A$2:$A$200,$A12,Requests!$C$2:$C$200,"<="&H$6,Requests!$D$2:$D$200,">="&H$6,Requests!$F$2:$F$200,"Approved")>0,"A",IF(COUNTIFS(Requests!$A$2:$A$200,$A12,Requests!$C$2:$C$200,"<="&H$6,Requests!$D$2:$D$200,">="&H$6,Requests!$F$2:$F$200,"Pending")>0,"P",""))) | I12: =IF(OR($A12="",I$6=""),"",IF(COUNTIFS(Requests!$A$2:$A$200,$A12,Requests!$C$2:$C$200,"<="&I$6,Requests!$D$2:$D$200,">="&I$6,Requests!$F$2:$F$200,"Approved")>0,"A",IF(COUNTIFS(Requests!$A$2:$A$200,$A12,Requests!$C$2:$C$200,"<="&I$6,Requests!$D$2:$D$200,">="&I$6,Requests!$F$2:$F$200,"Pending")>0,"P",""))) | ... AF12: =IF(OR($A12="",AF$6=""),"",IF(COUNTIFS(Requests!$A$2:$A$200,$A12,Requests!$C$2:$C$200,"<="&AF$6,Requests!$D$2:$D$200,">="&AF$6,Requests!$F$2:$F$200,"Approved")>0,"A",IF(COUNTIFS(Requests!$A$2:$A$200,$A12,Requests!$C$2:$C$200,"<="&AF$6,Requests!$D$2:$D$200,">="&AF$6,Requests!$F$2:$F$200,"Pending")>0,"P","")))
A13: =IF(Balances!A16="","",Balances!A16) | B13: =IF(OR($A13="",B$6=""),"",IF(COUNTIFS(Requests!$A$2:$A$200,$A13,Requests!$C$2:$C$200,"<="&B$6,Requests!$D$2:$D$200,">="&B$6,Requests!$F$2:$F$200,"Approved")>0,"A",IF(COUNTIFS(Requests!$A$2:$A$200,$A13,Requests!$C$2:$C$200,"<="&B$6,Requests!$D$2:$D$200,">="&B$6,Requests!$F$2:$F$200,"Pending")>0,"P",""))) | C13: =IF(OR($A13="",C$6=""),"",IF(COUNTIFS(Requests!$A$2:$A$200,$A13,Requests!$C$2:$C$200,"<="&C$6,Requests!$D$2:$D$200,">="&C$6,Requests!$F$2:$F$200,"Approved")>0,"A",IF(COUNTIFS(Requests!$A$2:$A$200,$A13,Requests!$C$2:$C$200,"<="&C$6,Requests!$D$2:$D$200,">="&C$6,Requests!$F$2:$F$200,"Pending")>0,"P",""))) | D13: =IF(OR($A13="",D$6=""),"",IF(COUNTIFS(Requests!$A$2:$A$200,$A13,Requests!$C$2:$C$200,"<="&D$6,Requests!$D$2:$D$200,">="&D$6,Requests!$F$2:$F$200,"Approved")>0,"A",IF(COUNTIFS(Requests!$A$2:$A$200,$A13,Requests!$C$2:$C$200,"<="&D$6,Requests!$D$2:$D$200,">="&D$6,Requests!$F$2:$F$200,"Pending")>0,"P",""))) | E13: =IF(OR($A13="",E$6=""),"",IF(COUNTIFS(Requests!$A$2:$A$200,$A13,Requests!$C$2:$C$200,"<="&E$6,Requests!$D$2:$D$200,">="&E$6,Requests!$F$2:$F$200,"Approved")>0,"A",IF(COUNTIFS(Requests!$A$2:$A$200,$A13,Requests!$C$2:$C$200,"<="&E$6,Requests!$D$2:$D$200,">="&E$6,Requests!$F$2:$F$200,"Pending")>0,"P",""))) | F13: =IF(OR($A13="",F$6=""),"",IF(COUNTIFS(Requests!$A$2:$A$200,$A13,Requests!$C$2:$C$200,"<="&F$6,Requests!$D$2:$D$200,">="&F$6,Requests!$F$2:$F$200,"Approved")>0,"A",IF(COUNTIFS(Requests!$A$2:$A$200,$A13,Requests!$C$2:$C$200,"<="&F$6,Requests!$D$2:$D$200,">="&F$6,Requests!$F$2:$F$200,"Pending")>0,"P",""))) | G13: =IF(OR($A13="",G$6=""),"",IF(COUNTIFS(Requests!$A$2:$A$200,$A13,Requests!$C$2:$C$200,"<="&G$6,Requests!$D$2:$D$200,">="&G$6,Requests!$F$2:$F$200,"Approved")>0,"A",IF(COUNTIFS(Requests!$A$2:$A$200,$A13,Requests!$C$2:$C$200,"<="&G$6,Requests!$D$2:$D$200,">="&G$6,Requests!$F$2:$F$200,"Pending")>0,"P",""))) | H13: =IF(OR($A13="",H$6=""),"",IF(COUNTIFS(Requests!$A$2:$A$200,$A13,Requests!$C$2:$C$200,"<="&H$6,Requests!$D$2:$D$200,">="&H$6,Requests!$F$2:$F$200,"Approved")>0,"A",IF(COUNTIFS(Requests!$A$2:$A$200,$A13,Requests!$C$2:$C$200,"<="&H$6,Requests!$D$2:$D$200,">="&H$6,Requests!$F$2:$F$200,"Pending")>0,"P",""))) | I13: =IF(OR($A13="",I$6=""),"",IF(COUNTIFS(Requests!$A$2:$A$200,$A13,Requests!$C$2:$C$200,"<="&I$6,Requests!$D$2:$D$200,">="&I$6,Requests!$F$2:$F$200,"Approved")>0,"A",IF(COUNTIFS(Requests!$A$2:$A$200,$A13,Requests!$C$2:$C$200,"<="&I$6,Requests!$D$2:$D$200,">="&I$6,Requests!$F$2:$F$200,"Pending")>0,"P",""))) | ... AF13: =IF(OR($A13="",AF$6=""),"",IF(COUNTIFS(Requests!$A$2:$A$200,$A13,Requests!$C$2:$C$200,"<="&AF$6,Requests!$D$2:$D$200,">="&AF$6,Requests!$F$2:$F$200,"Approved")>0,"A",IF(COUNTIFS(Requests!$A$2:$A$200,$A13,Requests!$C$2:$C$200,"<="&AF$6,Requests!$D$2:$D$200,">="&AF$6,Requests!$F$2:$F$200,"Pending")>0,"P","")))
A14: =IF(Balances!A17="","",Balances!A17) | B14: =IF(OR($A14="",B$6=""),"",IF(COUNTIFS(Requests!$A$2:$A$200,$A14,Requests!$C$2:$C$200,"<="&B$6,Requests!$D$2:$D$200,">="&B$6,Requests!$F$2:$F$200,"Approved")>0,"A",IF(COUNTIFS(Requests!$A$2:$A$200,$A14,Requests!$C$2:$C$200,"<="&B$6,Requests!$D$2:$D$200,">="&B$6,Requests!$F$2:$F$200,"Pending")>0,"P",""))) | C14: =IF(OR($A14="",C$6=""),"",IF(COUNTIFS(Requests!$A$2:$A$200,$A14,Requests!$C$2:$C$200,"<="&C$6,Requests!$D$2:$D$200,">="&C$6,Requests!$F$2:$F$200,"Approved")>0,"A",IF(COUNTIFS(Requests!$A$2:$A$200,$A14,Requests!$C$2:$C$200,"<="&C$6,Requests!$D$2:$D$200,">="&C$6,Requests!$F$2:$F$200,"Pending")>0,"P",""))) | D14: =IF(OR($A14="",D$6=""),"",IF(COUNTIFS(Requests!$A$2:$A$200,$A14,Requests!$C$2:$C$200,"<="&D$6,Requests!$D$2:$D$200,">="&D$6,Requests!$F$2:$F$200,"Approved")>0,"A",IF(COUNTIFS(Requests!$A$2:$A$200,$A14,Requests!$C$2:$C$200,"<="&D$6,Requests!$D$2:$D$200,">="&D$6,Requests!$F$2:$F$200,"Pending")>0,"P",""))) | E14: =IF(OR($A14="",E$6=""),"",IF(COUNTIFS(Requests!$A$2:$A$200,$A14,Requests!$C$2:$C$200,"<="&E$6,Requests!$D$2:$D$200,">="&E$6,Requests!$F$2:$F$200,"Approved")>0,"A",IF(COUNTIFS(Requests!$A$2:$A$200,$A14,Requests!$C$2:$C$200,"<="&E$6,Requests!$D$2:$D$200,">="&E$6,Requests!$F$2:$F$200,"Pending")>0,"P",""))) | F14: =IF(OR($A14="",F$6=""),"",IF(COUNTIFS(Requests!$A$2:$A$200,$A14,Requests!$C$2:$C$200,"<="&F$6,Requests!$D$2:$D$200,">="&F$6,Requests!$F$2:$F$200,"Approved")>0,"A",IF(COUNTIFS(Requests!$A$2:$A$200,$A14,Requests!$C$2:$C$200,"<="&F$6,Requests!$D$2:$D$200,">="&F$6,Requests!$F$2:$F$200,"Pending")>0,"P",""))) | G14: =IF(OR($A14="",G$6=""),"",IF(COUNTIFS(Requests!$A$2:$A$200,$A14,Requests!$C$2:$C$200,"<="&G$6,Requests!$D$2:$D$200,">="&G$6,Requests!$F$2:$F$200,"Approved")>0,"A",IF(COUNTIFS(Requests!$A$2:$A$200,$A14,Requests!$C$2:$C$200,"<="&G$6,Requests!$D$2:$D$200,">="&G$6,Requests!$F$2:$F$200,"Pending")>0,"P",""))) | H14: =IF(OR($A14="",H$6=""),"",IF(COUNTIFS(Requests!$A$2:$A$200,$A14,Requests!$C$2:$C$200,"<="&H$6,Requests!$D$2:$D$200,">="&H$6,Requests!$F$2:$F$200,"Approved")>0,"A",IF(COUNTIFS(Requests!$A$2:$A$200,$A14,Requests!$C$2:$C$200,"<="&H$6,Requests!$D$2:$D$200,">="&H$6,Requests!$F$2:$F$200,"Pending")>0,"P",""))) | I14: =IF(OR($A14="",I$6=""),"",IF(COUNTIFS(Requests!$A$2:$A$200,$A14,Requests!$C$2:$C$200,"<="&I$6,Requests!$D$2:$D$200,">="&I$6,Requests!$F$2:$F$200,"Approved")>0,"A",IF(COUNTIFS(Requests!$A$2:$A$200,$A14,Requests!$C$2:$C$200,"<="&I$6,Requests!$D$2:$D$200,">="&I$6,Requests!$F$2:$F$200,"Pending")>0,"P",""))) | ... AF14: =IF(OR($A14="",AF$6=""),"",IF(COUNTIFS(Requests!$A$2:$A$200,$A14,Requests!$C$2:$C$200,"<="&AF$6,Requests!$D$2:$D$200,">="&AF$6,Requests!$F$2:$F$200,"Approved")>0,"A",IF(COUNTIFS(Requests!$A$2:$A$200,$A14,Requests!$C$2:$C$200,"<="&AF$6,Requests!$D$2:$D$200,">="&AF$6,Requests!$F$2:$F$200,"Pending")>0,"P","")))
A15: =IF(Balances!A18="","",Balances!A18) | B15: =IF(OR($A15="",B$6=""),"",IF(COUNTIFS(Requests!$A$2:$A$200,$A15,Requests!$C$2:$C$200,"<="&B$6,Requests!$D$2:$D$200,">="&B$6,Requests!$F$2:$F$200,"Approved")>0,"A",IF(COUNTIFS(Requests!$A$2:$A$200,$A15,Requests!$C$2:$C$200,"<="&B$6,Requests!$D$2:$D$200,">="&B$6,Requests!$F$2:$F$200,"Pending")>0,"P",""))) | C15: =IF(OR($A15="",C$6=""),"",IF(COUNTIFS(Requests!$A$2:$A$200,$A15,Requests!$C$2:$C$200,"<="&C$6,Requests!$D$2:$D$200,">="&C$6,Requests!$F$2:$F$200,"Approved")>0,"A",IF(COUNTIFS(Requests!$A$2:$A$200,$A15,Requests!$C$2:$C$200,"<="&C$6,Requests!$D$2:$D$200,">="&C$6,Requests!$F$2:$F$200,"Pending")>0,"P",""))) | D15: =IF(OR($A15="",D$6=""),"",IF(COUNTIFS(Requests!$A$2:$A$200,$A15,Requests!$C$2:$C$200,"<="&D$6,Requests!$D$2:$D$200,">="&D$6,Requests!$F$2:$F$200,"Approved")>0,"A",IF(COUNTIFS(Requests!$A$2:$A$200,$A15,Requests!$C$2:$C$200,"<="&D$6,Requests!$D$2:$D$200,">="&D$6,Requests!$F$2:$F$200,"Pending")>0,"P",""))) | E15: =IF(OR($A15="",E$6=""),"",IF(COUNTIFS(Requests!$A$2:$A$200,$A15,Requests!$C$2:$C$200,"<="&E$6,Requests!$D$2:$D$200,">="&E$6,Requests!$F$2:$F$200,"Approved")>0,"A",IF(COUNTIFS(Requests!$A$2:$A$200,$A15,Requests!$C$2:$C$200,"<="&E$6,Requests!$D$2:$D$200,">="&E$6,Requests!$F$2:$F$200,"Pending")>0,"P",""))) | F15: =IF(OR($A15="",F$6=""),"",IF(COUNTIFS(Requests!$A$2:$A$200,$A15,Requests!$C$2:$C$200,"<="&F$6,Requests!$D$2:$D$200,">="&F$6,Requests!$F$2:$F$200,"Approved")>0,"A",IF(COUNTIFS(Requests!$A$2:$A$200,$A15,Requests!$C$2:$C$200,"<="&F$6,Requests!$D$2:$D$200,">="&F$6,Requests!$F$2:$F$200,"Pending")>0,"P",""))) | G15: =IF(OR($A15="",G$6=""),"",IF(COUNTIFS(Requests!$A$2:$A$200,$A15,Requests!$C$2:$C$200,"<="&G$6,Requests!$D$2:$D$200,">="&G$6,Requests!$F$2:$F$200,"Approved")>0,"A",IF(COUNTIFS(Requests!$A$2:$A$200,$A15,Requests!$C$2:$C$200,"<="&G$6,Requests!$D$2:$D$200,">="&G$6,Requests!$F$2:$F$200,"Pending")>0,"P",""))) | H15: =IF(OR($A15="",H$6=""),"",IF(COUNTIFS(Requests!$A$2:$A$200,$A15,Requests!$C$2:$C$200,"<="&H$6,Requests!$D$2:$D$200,">="&H$6,Requests!$F$2:$F$200,"Approved")>0,"A",IF(COUNTIFS(Requests!$A$2:$A$200,$A15,Requests!$C$2:$C$200,"<="&H$6,Requests!$D$2:$D$200,">="&H$6,Requests!$F$2:$F$200,"Pending")>0,"P",""))) | I15: =IF(OR($A15="",I$6=""),"",IF(COUNTIFS(Requests!$A$2:$A$200,$A15,Requests!$C$2:$C$200,"<="&I$6,Requests!$D$2:$D$200,">="&I$6,Requests!$F$2:$F$200,"Approved")>0,"A",IF(COUNTIFS(Requests!$A$2:$A$200,$A15,Requests!$C$2:$C$200,"<="&I$6,Requests!$D$2:$D$200,">="&I$6,Requests!$F$2:$F$200,"Pending")>0,"P",""))) | ... AF15: =IF(OR($A15="",AF$6=""),"",IF(COUNTIFS(Requests!$A$2:$A$200,$A15,Requests!$C$2:$C$200,"<="&AF$6,Requests!$D$2:$D$200,">="&AF$6,Requests!$F$2:$F$200,"Approved")>0,"A",IF(COUNTIFS(Requests!$A$2:$A$200,$A15,Requests!$C$2:$C$200,"<="&AF$6,Requests!$D$2:$D$200,">="&AF$6,Requests!$F$2:$F$200,"Pending")>0,"P","")))
A16: =IF(Balances!A19="","",Balances!A19) | B16: =IF(OR($A16="",B$6=""),"",IF(COUNTIFS(Requests!$A$2:$A$200,$A16,Requests!$C$2:$C$200,"<="&B$6,Requests!$D$2:$D$200,">="&B$6,Requests!$F$2:$F$200,"Approved")>0,"A",IF(COUNTIFS(Requests!$A$2:$A$200,$A16,Requests!$C$2:$C$200,"<="&B$6,Requests!$D$2:$D$200,">="&B$6,Requests!$F$2:$F$200,"Pending")>0,"P",""))) | C16: =IF(OR($A16="",C$6=""),"",IF(COUNTIFS(Requests!$A$2:$A$200,$A16,Requests!$C$2:$C$200,"<="&C$6,Requests!$D$2:$D$200,">="&C$6,Requests!$F$2:$F$200,"Approved")>0,"A",IF(COUNTIFS(Requests!$A$2:$A$200,$A16,Requests!$C$2:$C$200,"<="&C$6,Requests!$D$2:$D$200,">="&C$6,Requests!$F$2:$F$200,"Pending")>0,"P",""))) | D16: =IF(OR($A16="",D$6=""),"",IF(COUNTIFS(Requests!$A$2:$A$200,$A16,Requests!$C$2:$C$200,"<="&D$6,Requests!$D$2:$D$200,">="&D$6,Requests!$F$2:$F$200,"Approved")>0,"A",IF(COUNTIFS(Requests!$A$2:$A$200,$A16,Requests!$C$2:$C$200,"<="&D$6,Requests!$D$2:$D$200,">="&D$6,Requests!$F$2:$F$200,"Pending")>0,"P",""))) | E16: =IF(OR($A16="",E$6=""),"",IF(COUNTIFS(Requests!$A$2:$A$200,$A16,Requests!$C$2:$C$200,"<="&E$6,Requests!$D$2:$D$200,">="&E$6,Requests!$F$2:$F$200,"Approved")>0,"A",IF(COUNTIFS(Requests!$A$2:$A$200,$A16,Requests!$C$2:$C$200,"<="&E$6,Requests!$D$2:$D$200,">="&E$6,Requests!$F$2:$F$200,"Pending")>0,"P",""))) | F16: =IF(OR($A16="",F$6=""),"",IF(COUNTIFS(Requests!$A$2:$A$200,$A16,Requests!$C$2:$C$200,"<="&F$6,Requests!$D$2:$D$200,">="&F$6,Requests!$F$2:$F$200,"Approved")>0,"A",IF(COUNTIFS(Requests!$A$2:$A$200,$A16,Requests!$C$2:$C$200,"<="&F$6,Requests!$D$2:$D$200,">="&F$6,Requests!$F$2:$F$200,"Pending")>0,"P",""))) | G16: =IF(OR($A16="",G$6=""),"",IF(COUNTIFS(Requests!$A$2:$A$200,$A16,Requests!$C$2:$C$200,"<="&G$6,Requests!$D$2:$D$200,">="&G$6,Requests!$F$2:$F$200,"Approved")>0,"A",IF(COUNTIFS(Requests!$A$2:$A$200,$A16,Requests!$C$2:$C$200,"<="&G$6,Requests!$D$2:$D$200,">="&G$6,Requests!$F$2:$F$200,"Pending")>0,"P",""))) | H16: =IF(OR($A16="",H$6=""),"",IF(COUNTIFS(Requests!$A$2:$A$200,$A16,Requests!$C$2:$C$200,"<="&H$6,Requests!$D$2:$D$200,">="&H$6,Requests!$F$2:$F$200,"Approved")>0,"A",IF(COUNTIFS(Requests!$A$2:$A$200,$A16,Requests!$C$2:$C$200,"<="&H$6,Requests!$D$2:$D$200,">="&H$6,Requests!$F$2:$F$200,"Pending")>0,"P",""))) | I16: =IF(OR($A16="",I$6=""),"",IF(COUNTIFS(Requests!$A$2:$A$200,$A16,Requests!$C$2:$C$200,"<="&I$6,Requests!$D$2:$D$200,">="&I$6,Requests!$F$2:$F$200,"Approved")>0,"A",IF(COUNTIFS(Requests!$A$2:$A$200,$A16,Requests!$C$2:$C$200,"<="&I$6,Requests!$D$2:$D$200,">="&I$6,Requests!$F$2:$F$200,"Pending")>0,"P",""))) | ... AF16: =IF(OR($A16="",AF$6=""),"",IF(COUNTIFS(Requests!$A$2:$A$200,$A16,Requests!$C$2:$C$200,"<="&AF$6,Requests!$D$2:$D$200,">="&AF$6,Requests!$F$2:$F$200,"Approved")>0,"A",IF(COUNTIFS(Requests!$A$2:$A$200,$A16,Requests!$C$2:$C$200,"<="&AF$6,Requests!$D$2:$D$200,">="&AF$6,Requests!$F$2:$F$200,"Pending")>0,"P","")))
A17: =IF(Balances!A20="","",Balances!A20) | B17: =IF(OR($A17="",B$6=""),"",IF(COUNTIFS(Requests!$A$2:$A$200,$A17,Requests!$C$2:$C$200,"<="&B$6,Requests!$D$2:$D$200,">="&B$6,Requests!$F$2:$F$200,"Approved")>0,"A",IF(COUNTIFS(Requests!$A$2:$A$200,$A17,Requests!$C$2:$C$200,"<="&B$6,Requests!$D$2:$D$200,">="&B$6,Requests!$F$2:$F$200,"Pending")>0,"P",""))) | C17: =IF(OR($A17="",C$6=""),"",IF(COUNTIFS(Requests!$A$2:$A$200,$A17,Requests!$C$2:$C$200,"<="&C$6,Requests!$D$2:$D$200,">="&C$6,Requests!$F$2:$F$200,"Approved")>0,"A",IF(COUNTIFS(Requests!$A$2:$A$200,$A17,Requests!$C$2:$C$200,"<="&C$6,Requests!$D$2:$D$200,">="&C$6,Requests!$F$2:$F$200,"Pending")>0,"P",""))) | D17: =IF(OR($A17="",D$6=""),"",IF(COUNTIFS(Requests!$A$2:$A$200,$A17,Requests!$C$2:$C$200,"<="&D$6,Requests!$D$2:$D$200,">="&D$6,Requests!$F$2:$F$200,"Approved")>0,"A",IF(COUNTIFS(Requests!$A$2:$A$200,$A17,Requests!$C$2:$C$200,"<="&D$6,Requests!$D$2:$D$200,">="&D$6,Requests!$F$2:$F$200,"Pending")>0,"P",""))) | E17: =IF(OR($A17="",E$6=""),"",IF(COUNTIFS(Requests!$A$2:$A$200,$A17,Requests!$C$2:$C$200,"<="&E$6,Requests!$D$2:$D$200,">="&E$6,Requests!$F$2:$F$200,"Approved")>0,"A",IF(COUNTIFS(Requests!$A$2:$A$200,$A17,Requests!$C$2:$C$200,"<="&E$6,Requests!$D$2:$D$200,">="&E$6,Requests!$F$2:$F$200,"Pending")>0,"P",""))) | F17: =IF(OR($A17="",F$6=""),"",IF(COUNTIFS(Requests!$A$2:$A$200,$A17,Requests!$C$2:$C$200,"<="&F$6,Requests!$D$2:$D$200,">="&F$6,Requests!$F$2:$F$200,"Approved")>0,"A",IF(COUNTIFS(Requests!$A$2:$A$200,$A17,Requests!$C$2:$C$200,"<="&F$6,Requests!$D$2:$D$200,">="&F$6,Requests!$F$2:$F$200,"Pending")>0,"P",""))) | G17: =IF(OR($A17="",G$6=""),"",IF(COUNTIFS(Requests!$A$2:$A$200,$A17,Requests!$C$2:$C$200,"<="&G$6,Requests!$D$2:$D$200,">="&G$6,Requests!$F$2:$F$200,"Approved")>0,"A",IF(COUNTIFS(Requests!$A$2:$A$200,$A17,Requests!$C$2:$C$200,"<="&G$6,Requests!$D$2:$D$200,">="&G$6,Requests!$F$2:$F$200,"Pending")>0,"P",""))) | H17: =IF(OR($A17="",H$6=""),"",IF(COUNTIFS(Requests!$A$2:$A$200,$A17,Requests!$C$2:$C$200,"<="&H$6,Requests!$D$2:$D$200,">="&H$6,Requests!$F$2:$F$200,"Approved")>0,"A",IF(COUNTIFS(Requests!$A$2:$A$200,$A17,Requests!$C$2:$C$200,"<="&H$6,Requests!$D$2:$D$200,">="&H$6,Requests!$F$2:$F$200,"Pending")>0,"P",""))) | I17: =IF(OR($A17="",I$6=""),"",IF(COUNTIFS(Requests!$A$2:$A$200,$A17,Requests!$C$2:$C$200,"<="&I$6,Requests!$D$2:$D$200,">="&I$6,Requests!$F$2:$F$200,"Approved")>0,"A",IF(COUNTIFS(Requests!$A$2:$A$200,$A17,Requests!$C$2:$C$200,"<="&I$6,Requests!$D$2:$D$200,">="&I$6,Requests!$F$2:$F$200,"Pending")>0,"P",""))) | ... AF17: =IF(OR($A17="",AF$6=""),"",IF(COUNTIFS(Requests!$A$2:$A$200,$A17,Requests!$C$2:$C$200,"<="&AF$6,Requests!$D$2:$D$200,">="&AF$6,Requests!$F$2:$F$200,"Approved")>0,"A",IF(COUNTIFS(Requests!$A$2:$A$200,$A17,Requests!$C$2:$C$200,"<="&AF$6,Requests!$D$2:$D$200,">="&AF$6,Requests!$F$2:$F$200,"Pending")>0,"P","")))
A18: =IF(Balances!A21="","",Balances!A21) | B18: =IF(OR($A18="",B$6=""),"",IF(COUNTIFS(Requests!$A$2:$A$200,$A18,Requests!$C$2:$C$200,"<="&B$6,Requests!$D$2:$D$200,">="&B$6,Requests!$F$2:$F$200,"Approved")>0,"A",IF(COUNTIFS(Requests!$A$2:$A$200,$A18,Requests!$C$2:$C$200,"<="&B$6,Requests!$D$2:$D$200,">="&B$6,Requests!$F$2:$F$200,"Pending")>0,"P",""))) | C18: =IF(OR($A18="",C$6=""),"",IF(COUNTIFS(Requests!$A$2:$A$200,$A18,Requests!$C$2:$C$200,"<="&C$6,Requests!$D$2:$D$200,">="&C$6,Requests!$F$2:$F$200,"Approved")>0,"A",IF(COUNTIFS(Requests!$A$2:$A$200,$A18,Requests!$C$2:$C$200,"<="&C$6,Requests!$D$2:$D$200,">="&C$6,Requests!$F$2:$F$200,"Pending")>0,"P",""))) | D18: =IF(OR($A18="",D$6=""),"",IF(COUNTIFS(Requests!$A$2:$A$200,$A18,Requests!$C$2:$C$200,"<="&D$6,Requests!$D$2:$D$200,">="&D$6,Requests!$F$2:$F$200,"Approved")>0,"A",IF(COUNTIFS(Requests!$A$2:$A$200,$A18,Requests!$C$2:$C$200,"<="&D$6,Requests!$D$2:$D$200,">="&D$6,Requests!$F$2:$F$200,"Pending")>0,"P",""))) | E18: =IF(OR($A18="",E$6=""),"",IF(COUNTIFS(Requests!$A$2:$A$200,$A18,Requests!$C$2:$C$200,"<="&E$6,Requests!$D$2:$D$200,">="&E$6,Requests!$F$2:$F$200,"Approved")>0,"A",IF(COUNTIFS(Requests!$A$2:$A$200,$A18,Requests!$C$2:$C$200,"<="&E$6,Requests!$D$2:$D$200,">="&E$6,Requests!$F$2:$F$200,"Pending")>0,"P",""))) | F18: =IF(OR($A18="",F$6=""),"",IF(COUNTIFS(Requests!$A$2:$A$200,$A18,Requests!$C$2:$C$200,"<="&F$6,Requests!$D$2:$D$200,">="&F$6,Requests!$F$2:$F$200,"Approved")>0,"A",IF(COUNTIFS(Requests!$A$2:$A$200,$A18,Requests!$C$2:$C$200,"<="&F$6,Requests!$D$2:$D$200,">="&F$6,Requests!$F$2:$F$200,"Pending")>0,"P",""))) | G18: =IF(OR($A18="",G$6=""),"",IF(COUNTIFS(Requests!$A$2:$A$200,$A18,Requests!$C$2:$C$200,"<="&G$6,Requests!$D$2:$D$200,">="&G$6,Requests!$F$2:$F$200,"Approved")>0,"A",IF(COUNTIFS(Requests!$A$2:$A$200,$A18,Requests!$C$2:$C$200,"<="&G$6,Requests!$D$2:$D$200,">="&G$6,Requests!$F$2:$F$200,"Pending")>0,"P",""))) | H18: =IF(OR($A18="",H$6=""),"",IF(COUNTIFS(Requests!$A$2:$A$200,$A18,Requests!$C$2:$C$200,"<="&H$6,Requests!$D$2:$D$200,">="&H$6,Requests!$F$2:$F$200,"Approved")>0,"A",IF(COUNTIFS(Requests!$A$2:$A$200,$A18,Requests!$C$2:$C$200,"<="&H$6,Requests!$D$2:$D$200,">="&H$6,Requests!$F$2:$F$200,"Pending")>0,"P",""))) | I18: =IF(OR($A18="",I$6=""),"",IF(COUNTIFS(Requests!$A$2:$A$200,$A18,Requests!$C$2:$C$200,"<="&I$6,Requests!$D$2:$D$200,">="&I$6,Requests!$F$2:$F$200,"Approved")>0,"A",IF(COUNTIFS(Requests!$A$2:$A$200,$A18,Requests!$C$2:$C$200,"<="&I$6,Requests!$D$2:$D$200,">="&I$6,Requests!$F$2:$F$200,"Pending")>0,"P",""))) | ... AF18: =IF(OR($A18="",AF$6=""),"",IF(COUNTIFS(Requests!$A$2:$A$200,$A18,Requests!$C$2:$C$200,"<="&AF$6,Requests!$D$2:$D$200,">="&AF$6,Requests!$F$2:$F$200,"Approved")>0,"A",IF(COUNTIFS(Requests!$A$2:$A$200,$A18,Requests!$C$2:$C$200,"<="&AF$6,Requests!$D$2:$D$200,">="&AF$6,Requests!$F$2:$F$200,"Pending")>0,"P","")))
... A31: =IF(Balances!A34="","",Balances!A34) | B31: =IF(OR($A31="",B$6=""),"",IF(COUNTIFS(Requests!$A$2:$A$200,$A31,Requests!$C$2:$C$200,"<="&B$6,Requests!$D$2:$D$200,">="&B$6,Requests!$F$2:$F$200,"Approved")>0,"A",IF(COUNTIFS(Requests!$A$2:$A$200,$A31,Requests!$C$2:$C$200,"<="&B$6,Requests!$D$2:$D$200,">="&B$6,Requests!$F$2:$F$200,"Pending")>0,"P",""))) | C31: =IF(OR($A31="",C$6=""),"",IF(COUNTIFS(Requests!$A$2:$A$200,$A31,Requests!$C$2:$C$200,"<="&C$6,Requests!$D$2:$D$200,">="&C$6,Requests!$F$2:$F$200,"Approved")>0,"A",IF(COUNTIFS(Requests!$A$2:$A$200,$A31,Requests!$C$2:$C$200,"<="&C$6,Requests!$D$2:$D$200,">="&C$6,Requests!$F$2:$F$200,"Pending")>0,"P",""))) | D31: =IF(OR($A31="",D$6=""),"",IF(COUNTIFS(Requests!$A$2:$A$200,$A31,Requests!$C$2:$C$200,"<="&D$6,Requests!$D$2:$D$200,">="&D$6,Requests!$F$2:$F$200,"Approved")>0,"A",IF(COUNTIFS(Requests!$A$2:$A$200,$A31,Requests!$C$2:$C$200,"<="&D$6,Requests!$D$2:$D$200,">="&D$6,Requests!$F$2:$F$200,"Pending")>0,"P",""))) | E31: =IF(OR($A31="",E$6=""),"",IF(COUNTIFS(Requests!$A$2:$A$200,$A31,Requests!$C$2:$C$200,"<="&E$6,Requests!$D$2:$D$200,">="&E$6,Requests!$F$2:$F$200,"Approved")>0,"A",IF(COUNTIFS(Requests!$A$2:$A$200,$A31,Requests!$C$2:$C$200,"<="&E$6,Requests!$D$2:$D$200,">="&E$6,Requests!$F$2:$F$200,"Pending")>0,"P",""))) | F31: =IF(OR($A31="",F$6=""),"",IF(COUNTIFS(Requests!$A$2:$A$200,$A31,Requests!$C$2:$C$200,"<="&F$6,Requests!$D$2:$D$200,">="&F$6,Requests!$F$2:$F$200,"Approved")>0,"A",IF(COUNTIFS(Requests!$A$2:$A$200,$A31,Requests!$C$2:$C$200,"<="&F$6,Requests!$D$2:$D$200,">="&F$6,Requests!$F$2:$F$200,"Pending")>0,"P",""))) | G31: =IF(OR($A31="",G$6=""),"",IF(COUNTIFS(Requests!$A$2:$A$200,$A31,Requests!$C$2:$C$200,"<="&G$6,Requests!$D$2:$D$200,">="&G$6,Requests!$F$2:$F$200,"Approved")>0,"A",IF(COUNTIFS(Requests!$A$2:$A$200,$A31,Requests!$C$2:$C$200,"<="&G$6,Requests!$D$2:$D$200,">="&G$6,Requests!$F$2:$F$200,"Pending")>0,"P",""))) | H31: =IF(OR($A31="",H$6=""),"",IF(COUNTIFS(Requests!$A$2:$A$200,$A31,Requests!$C$2:$C$200,"<="&H$6,Requests!$D$2:$D$200,">="&H$6,Requests!$F$2:$F$200,"Approved")>0,"A",IF(COUNTIFS(Requests!$A$2:$A$200,$A31,Requests!$C$2:$C$200,"<="&H$6,Requests!$D$2:$D$200,">="&H$6,Requests!$F$2:$F$200,"Pending")>0,"P",""))) | I31: =IF(OR($A31="",I$6=""),"",IF(COUNTIFS(Requests!$A$2:$A$200,$A31,Requests!$C$2:$C$200,"<="&I$6,Requests!$D$2:$D$200,">="&I$6,Requests!$F$2:$F$200,"Approved")>0,"A",IF(COUNTIFS(Requests!$A$2:$A$200,$A31,Requests!$C$2:$C$200,"<="&I$6,Requests!$D$2:$D$200,">="&I$6,Requests!$F$2:$F$200,"Pending")>0,"P",""))) | ... AF31: =IF(OR($A31="",AF$6=""),"",IF(COUNTIFS(Requests!$A$2:$A$200,$A31,Requests!$C$2:$C$200,"<="&AF$6,Requests!$D$2:$D$200,">="&AF$6,Requests!$F$2:$F$200,"Approved")>0,"A",IF(COUNTIFS(Requests!$A$2:$A$200,$A31,Requests!$C$2:$C$200,"<="&AF$6,Requests!$D$2:$D$200,">="&AF$6,Requests!$F$2:$F$200,"Pending")>0,"P","")))

Sheet How to use
A1: How to use the leave planner
A3: 1. On Balances, set the month your leave year starts (4 is April, India's financial year) and the year.
A4: 2. One row per person: their entitlement in days a year, what they carried in, and a carry-over cap.
A5: Leave the cap blank if nothing carries over.
A6: 3. Record each request on Requests: who, the type, the first and last day, and its status. Working
A7: days are counted for you, inclusive, without weekends or the dates on Holidays.
A8: 4. 'Accrued so far' builds up a twelfth of the entitlement each month. 'Available now' is what has
A9: accrued plus what was carried in, less approved leave. 'Left for the year' uses the whole entitlement.
A10: 5. Pending requests are shown separately and are not taken off until they are approved.
A11: 6. 'Carries into next year' is what is left, up to the cap. Leave taken past an entitlement is not carried
A12: forward as a debt.
A13: 7. 'Who is away' shows one month at a time. Change the month at the top.
... A18: Made by ReliTime - timesheets, approvals, job costing and GST invoicing for consultancies: https://relitime.com
